BEGIN:VCALENDAR
VERSION:2.0
PRODID:-//Squarespace Inc/Squarespace 6//v6//EN
BEGIN:VEVENT
UID:588ffb1ecd0f685b13d44a84@squarespace.com
DTSTAMP:20170131T025049Z
DTSTART:20170130T203000Z
DTEND:20170130T213000Z
SUMMARY:Term 1: Club Program Begins
END:VEVENT
END:VCALENDAR
