BEGIN:VCALENDAR
VERSION:2.0
PRODID:-//Squarespace Inc/Squarespace 6//v6//EN
BEGIN:VEVENT
UID:588ffb9be6f2e1e686970146@squarespace.com
DTSTAMP:20170131T025624Z
DTSTART:20170205T203000Z
DTEND:20170205T213000Z
SUMMARY:Term 1: St Marys' Begins
END:VEVENT
END:VCALENDAR
