BEGIN:VCALENDAR
VERSION:2.0
PRODID:-//Squarespace Inc/Squarespace 6//v6//EN
BEGIN:VEVENT
UID:588ffc162994caec4e0d3e06@squarespace.com
DTSTAMP:20170131T025548Z
DTSTART:20170206T123000Z
DTEND:20170206T133000Z
SUMMARY:Term 1: St Stephens Begins
END:VEVENT
END:VCALENDAR
