BEGIN:VCALENDAR
VERSION:2.0
PRODID:-//Squarespace Inc/Squarespace 6//v6//EN
BEGIN:VEVENT
UID:588ffd4e414fb5e59cfb2c56@squarespace.com
DTSTAMP:20170131T025918Z
DTSTART:20170411T140000Z
DTEND:20170411T150000Z
SUMMARY:Autumn School Holidays Begin
END:VEVENT
END:VCALENDAR
