BEGIN:VCALENDAR
VERSION:2.0
PRODID:-//Squarespace Inc/Squarespace 6//v6//EN
BEGIN:VEVENT
UID:58ae6b35e6f2e13d11beefc0@squarespace.com
DTSTAMP:20170223T045604Z
DTSTART:20170419T140000Z
DTEND:20170421T160000Z
SUMMARY:HOT SHOTS CHALLENGE: Red Ballers 
END:VEVENT
END:VCALENDAR
