BEGIN:VCALENDAR
VERSION:2.0
PRODID:-//Squarespace Inc/Squarespace 6//v6//EN
BEGIN:VEVENT
UID:58ae6b6d725e252ca94748b4@squarespace.com
DTSTAMP:20170223T045709Z
DTSTART:20170420T140000Z
DTEND:20170421T170000Z
SUMMARY:HOT SHOTS CHALLENGE: Orange\, Green & Yellow Ballers 
END:VEVENT
END:VCALENDAR
