BEGIN:VCALENDAR
VERSION:2.0
PRODID:-//Squarespace Inc/Squarespace 6//v6//EN
BEGIN:VEVENT
UID:58fab6fed1758eec4bb36c17@squarespace.com
DTSTAMP:20170422T015128Z
DTSTART:20170425T020000Z
DTEND:20170703T030000Z
SUMMARY:Term 2: CLUB PROGRAM
END:VEVENT
END:VCALENDAR
