BEGIN:VCALENDAR
VERSION:2.0
PRODID:-//Squarespace Inc/Squarespace 6//v6//EN
BEGIN:VEVENT
UID:58fab76f8419c294e025804b@squarespace.com
DTSTAMP:20170422T015313Z
DTSTART:20170428T020000Z
DTEND:20170629T030000Z
SUMMARY:Term 2: ST MARYS'
END:VEVENT
END:VCALENDAR
