BEGIN:VCALENDAR
VERSION:2.0
PRODID:-//Squarespace Inc/Squarespace 6//v6//EN
BEGIN:VEVENT
UID:58fab732be6594f266c6c055@squarespace.com
DTSTAMP:20170422T015216Z
DTSTART:20170429T020000Z
DTEND:20170623T030000Z
SUMMARY:Term 2: OLGC + ST JOHNS
END:VEVENT
END:VCALENDAR
