BEGIN:VCALENDAR
VERSION:2.0
PRODID:-//Squarespace Inc/Squarespace 6//v6//EN
BEGIN:VEVENT
UID:588ffceabe65947e55e1e633@squarespace.com
DTSTAMP:20170131T025804Z
DTSTART:20170410T020000Z
DTEND:20170410T030000Z
SUMMARY:Term 1 Ends
END:VEVENT
END:VCALENDAR
