BEGIN:VCALENDAR
VERSION:2.0
PRODID:-//Squarespace Inc/Squarespace 6//v6//EN
BEGIN:VEVENT
UID:58fab758893fc0d7603746c0@squarespace.com
DTSTAMP:20170422T015239Z
DTSTART:20170502T020000Z
DTEND:20170624T030000Z
SUMMARY:Term 2: ST STEPHENS
END:VEVENT
END:VCALENDAR
