BEGIN:VCALENDAR
VERSION:2.0
PRODID:-//Squarespace Inc/Squarespace 6//v6//EN
BEGIN:VEVENT
UID:58fab7aa86e6c0f3d26aae9b@squarespace.com
DTSTAMP:20170422T015406Z
DTSTART:20170603T020000Z
DTEND:20170606T030000Z
SUMMARY:ST MARYS: Boarders Weekend
END:VEVENT
END:VCALENDAR
