BEGIN:VCALENDAR
VERSION:2.0
PRODID:-//Squarespace Inc/Squarespace 6//v6//EN
BEGIN:VEVENT
UID:597154a9be6594f000b517ed@squarespace.com
DTSTAMP:20170721T011400Z
DTSTART:20170717T193000Z
DTEND:20170924T153000Z
SUMMARY:TERM 3: Club Program
END:VEVENT
END:VCALENDAR
