BEGIN:VCALENDAR
VERSION:2.0
PRODID:-//Squarespace Inc/Squarespace 6//v6//EN
BEGIN:VEVENT
UID:59715576e4fcb5195806857f@squarespace.com
DTSTAMP:20170721T011527Z
DTSTART:20170720T113000Z
DTEND:20170920T123000Z
SUMMARY:Term 3: ST MARYS PROGRAM
END:VEVENT
END:VCALENDAR
