BEGIN:VCALENDAR
VERSION:2.0
PRODID:-//Squarespace Inc/Squarespace 6//v6//EN
BEGIN:VEVENT
UID:5971563de45a7ca662a66a02@squarespace.com
DTSTAMP:20170721T011840Z
DTSTART:20170728T113000Z
DTEND:20170915T123000Z
SUMMARY:Term 3: ST STEPHENS PROGRAM
END:VEVENT
END:VCALENDAR
