BEGIN:VCALENDAR
VERSION:2.0
PRODID:-//Squarespace Inc/Squarespace 6//v6//EN
BEGIN:VEVENT
UID:597156a1a5790a116059b138@squarespace.com
DTSTAMP:20170721T012014Z
DTSTART:20170729T113000Z
DTEND:20170915T123000Z
SUMMARY:Term 3: OLGC/ST JOHNS PROGRAM
END:VEVENT
END:VCALENDAR
