BEGIN:VCALENDAR
VERSION:2.0
PRODID:-//Squarespace Inc/Squarespace 6//v6//EN
BEGIN:VEVENT
UID:58fab7919de4bb2fd72cbd7c@squarespace.com
DTSTAMP:20170422T015338Z
DTSTART:20170704T020000Z
DTEND:20170715T030000Z
SUMMARY:WINTER SCHOOL HOLIDAYS
END:VEVENT
END:VCALENDAR
