BEGIN:VCALENDAR
VERSION:2.0
PRODID:-//Squarespace Inc/Squarespace 6//v6//EN
BEGIN:VEVENT
UID:597155d3bf629a6125521a46@squarespace.com
DTSTAMP:20170721T011711Z
DTSTART:20170818T133000Z
DTEND:20170821T143000Z
SUMMARY:BOARDERS WEEKEND: No St Marys' Tennis
END:VEVENT
END:VCALENDAR
