BEGIN:VCALENDAR
VERSION:2.0
PRODID:-//Squarespace Inc/Squarespace 6//v6//EN
BEGIN:VEVENT
UID:597156de914e6b99eec01988@squarespace.com
DTSTAMP:20170721T012129Z
DTSTART:20170925T140000Z
DTEND:20171006T150000Z
SUMMARY:SPRING SCHOOL HOLIDAY CAMPS
END:VEVENT
END:VCALENDAR
