BEGIN:VCALENDAR
VERSION:2.0
PRODID:-//Squarespace Inc/Squarespace 6//v6//EN
BEGIN:VEVENT
UID:5a5200bf0d9297f9a58b8531@squarespace.com
DTSTAMP:20180107T111903Z
DTSTART:20180112T220000Z
DTEND:20180113T000000Z
SUMMARY:FAST4 LEAGUE: Round 4
END:VEVENT
END:VCALENDAR
