BEGIN:VCALENDAR
VERSION:2.0
PRODID:-//Squarespace Inc/Squarespace 6//v6//EN
BEGIN:VEVENT
UID:5a52006d0d9297f9a58b8098@squarespace.com
DTSTAMP:20180107T112009Z
DTSTART:20180115T150000Z
DTEND:20180119T210000Z
SUMMARY:HOLIDAY CAMPS: Week 2
END:VEVENT
END:VCALENDAR
