BEGIN:VCALENDAR
VERSION:2.0
PRODID:-//Squarespace Inc/Squarespace 6//v6//EN
BEGIN:VEVENT
UID:5a433ff6e2c483652ffc697c@squarespace.com
DTSTAMP:20180315T023211Z
DTSTART:20180129T070000Z
DTEND:20180415T070000Z
SUMMARY:TERM 1: Club Program
END:VEVENT
END:VCALENDAR
