BEGIN:VCALENDAR
VERSION:2.0
PRODID:-//Squarespace Inc/Squarespace 6//v6//EN
BEGIN:VEVENT
UID:5a52004024a694bca83fb965@squarespace.com
DTSTAMP:20180107T111215Z
DTSTART:20180108T150000Z
DTEND:20180112T210000Z
SUMMARY:HOLIDAY CAMPS: Week 1
END:VEVENT
END:VCALENDAR
