BEGIN:VCALENDAR
VERSION:2.0
PRODID:-//Squarespace Inc/Squarespace 6//v6//EN
BEGIN:VEVENT
UID:5a52016a0d9297f9a58b8ef4@squarespace.com
DTSTAMP:20180107T111915Z
DTSTART:20180202T220000Z
DTEND:20180203T000000Z
SUMMARY:FAST4 LEAGUE: Round 5
END:VEVENT
END:VCALENDAR
