BEGIN:VCALENDAR
VERSION:2.0
PRODID:-//Squarespace Inc/Squarespace 6//v6//EN
BEGIN:VEVENT
UID:5aa9dbbbc830254197cc1e3b@squarespace.com
DTSTAMP:20180315T023503Z
DTSTART:20180317T170000Z
DTEND:20180317T210000Z
SUMMARY:SUMMER PENNANTS: Saturday League Semi Finals
END:VEVENT
END:VCALENDAR
