BEGIN:VCALENDAR
VERSION:2.0
PRODID:-//Squarespace Inc/Squarespace 6//v6//EN
BEGIN:VEVENT
UID:5aa9db9571c10b1937719ba6@squarespace.com
DTSTAMP:20180315T025117Z
DTSTART:20180318T123000Z
DTEND:20180318T163000Z
SUMMARY:SUMMER PENNANTS: Junior League Finals
END:VEVENT
END:VCALENDAR
