BEGIN:VCALENDAR
VERSION:2.0
PRODID:-//Squarespace Inc/Squarespace 6//v6//EN
BEGIN:VEVENT
UID:5aa9dbde53450a6f4ddd95d9@squarespace.com
DTSTAMP:20180315T023537Z
DTSTART:20180318T163000Z
DTEND:20180319T213000Z
SUMMARY:SUMMER PENNANTS: Sunday League Semi Finals
END:VEVENT
END:VCALENDAR
