BEGIN:VCALENDAR
VERSION:2.0
PRODID:-//Squarespace Inc/Squarespace 6//v6//EN
BEGIN:VEVENT
UID:5aa9e302e4966b47162434df@squarespace.com
DTSTAMP:20180315T031422Z
DTSTART:20180324T183000Z
DTEND:20180324T233000Z
SUMMARY:PLAY & STAY: Pizza Night
END:VEVENT
END:VCALENDAR
