BEGIN:VCALENDAR
VERSION:2.0
PRODID:-//Squarespace Inc/Squarespace 6//v6//EN
BEGIN:VEVENT
UID:5aa9e52cf9619ada928bba70@squarespace.com
DTSTAMP:20180315T031511Z
DTSTART:20180325T120000Z
DTEND:20180325T210000Z
SUMMARY:CLUB: Bunnings Sausage Sizzle
END:VEVENT
END:VCALENDAR
