BEGIN:VCALENDAR
VERSION:2.0
PRODID:-//Squarespace Inc/Squarespace 6//v6//EN
BEGIN:VEVENT
UID:5a4340429140b74c01420440@squarespace.com
DTSTAMP:20180315T022952Z
DTSTART:20180330T060000Z
DTEND:20180402T070000Z
SUMMARY:EASTER WEEKEND: No Tennis
END:VEVENT
END:VCALENDAR
