BEGIN:VCALENDAR
VERSION:2.0
PRODID:-//Squarespace Inc/Squarespace 6//v6//EN
BEGIN:VEVENT
UID:5a520189e4966ba79a05a14e@squarespace.com
DTSTAMP:20180107T111925Z
DTSTART:20180309T220000Z
DTEND:20180310T000000Z
SUMMARY:FAST4 LEAGUE: Round 6
END:VEVENT
END:VCALENDAR
