BEGIN:VCALENDAR
VERSION:2.0
PRODID:-//Squarespace Inc/Squarespace 6//v6//EN
BEGIN:VEVENT
UID:5aa9db71c830254197cc130b@squarespace.com
DTSTAMP:20180315T024828Z
DTSTART:20180414T130000Z
DTEND:20180415T210000Z
SUMMARY:CLUB: Senior Club Championships
END:VEVENT
END:VCALENDAR
