BEGIN:VCALENDAR
VERSION:2.0
PRODID:-//Squarespace Inc/Squarespace 6//v6//EN
BEGIN:VEVENT
UID:5aa9df24ec212de9ab2c0b43@squarespace.com
DTSTAMP:20180315T025024Z
DTSTART:20180416T140000Z
DTEND:20180420T200000Z
SUMMARY:AUTUMN SCHOOL HOLIDAYS: Week 1
END:VEVENT
END:VCALENDAR
