BEGIN:VCALENDAR
VERSION:2.0
PRODID:-//Squarespace Inc/Squarespace 6//v6//EN
BEGIN:VEVENT
UID:5aa9dc1e652deaa4305eef68@squarespace.com
DTSTAMP:20180315T024837Z
DTSTART:20180422T130000Z
DTEND:20180422T200000Z
SUMMARY:CITY OF STIRLING: Invitational Club Event
END:VEVENT
END:VCALENDAR
