BEGIN:VCALENDAR
VERSION:2.0
PRODID:-//Squarespace Inc/Squarespace 6//v6//EN
BEGIN:VEVENT
UID:5aa9df7941920244ff739d60@squarespace.com
DTSTAMP:20180315T025058Z
DTSTART:20180423T140000Z
DTEND:20180427T200000Z
SUMMARY:AUTUMN SCHOOL HOLIDAYS: Week 2
END:VEVENT
END:VCALENDAR
