BEGIN:VCALENDAR
VERSION:2.0
PRODID:-//Squarespace Inc/Squarespace 6//v6//EN
BEGIN:VEVENT
UID:5aa9dc62ec212de9ab2b9b12@squarespace.com
DTSTAMP:20180315T023749Z
DTSTART:20180430T190000Z
DTEND:20180702T200000Z
SUMMARY:TERM 2: Club Program
END:VEVENT
END:VCALENDAR
