BEGIN:VCALENDAR
VERSION:2.0
PRODID:-//Squarespace Inc/Squarespace 6//v6//EN
BEGIN:VEVENT
UID:5aa9dab69140b77920c7b3ef@squarespace.com
DTSTAMP:20180315T024820Z
DTSTART:20180407T130000Z
DTEND:20180408T210000Z
SUMMARY:CLUB: Senior Club Championships
END:VEVENT
END:VCALENDAR
