BEGIN:VCALENDAR
VERSION:2.0
PRODID:-//Squarespace Inc/Squarespace 6//v6//EN
BEGIN:VEVENT
UID:5aa9de909140b77920c84eb9@squarespace.com
DTSTAMP:20180315T024758Z
DTSTART:20180505T190000Z
DTEND:20180505T200000Z
SUMMARY:CLUB: AGM
END:VEVENT
END:VCALENDAR
