BEGIN:VCALENDAR
VERSION:2.0
PRODID:-//Squarespace Inc/Squarespace 6//v6//EN
BEGIN:VEVENT
UID:5aa9de00c830254197cc790e@squarespace.com
DTSTAMP:20180315T024452Z
DTSTART:20180601T150000Z
DTEND:20180604T160000Z
SUMMARY:TERM 2 SMAGS: Boarders Long Weekend
END:VEVENT
END:VCALENDAR
